BEGIN:VCALENDAR
VERSION:2.0
PRODID:-//L&#039;Agenda Geek - ECPv6.15.20//NONSGML v1.0//EN
CALSCALE:GREGORIAN
METHOD:PUBLISH
X-WR-CALNAME:L&#039;Agenda Geek
X-ORIGINAL-URL:https://lagendageek.com
X-WR-CALDESC:Évènements pour L&#039;Agenda Geek
REFRESH-INTERVAL;VALUE=DURATION:PT1H
X-Robots-Tag:noindex
X-PUBLISHED-TTL:PT1H
BEGIN:VTIMEZONE
TZID:Europe/Paris
BEGIN:DAYLIGHT
TZOFFSETFROM:+0100
TZOFFSETTO:+0200
TZNAME:CEST
DTSTART:20250330T010000
END:DAYLIGHT
BEGIN:STANDARD
TZOFFSETFROM:+0200
TZOFFSETTO:+0100
TZNAME:CET
DTSTART:20251026T010000
END:STANDARD
BEGIN:DAYLIGHT
TZOFFSETFROM:+0100
TZOFFSETTO:+0200
TZNAME:CEST
DTSTART:20260329T010000
END:DAYLIGHT
BEGIN:STANDARD
TZOFFSETFROM:+0200
TZOFFSETTO:+0100
TZNAME:CET
DTSTART:20261025T010000
END:STANDARD
BEGIN:DAYLIGHT
TZOFFSETFROM:+0100
TZOFFSETTO:+0200
TZNAME:CEST
DTSTART:20270328T010000
END:DAYLIGHT
BEGIN:STANDARD
TZOFFSETFROM:+0200
TZOFFSETTO:+0100
TZNAME:CET
DTSTART:20271031T010000
END:STANDARD
END:VTIMEZONE
BEGIN:VEVENT
DTSTART;TZID=Europe/Paris:20260129T100000
DTEND;TZID=Europe/Paris:20261129T180000
DTSTAMP:20260424T134121
CREATED:20251224T112645Z
LAST-MODIFIED:20251224T112645Z
UID:10002239-1769680800-1795975200@lagendageek.com
SUMMARY:De l'estampe au manga : Le Japon artistique
DESCRIPTION:Exposition temporaire à l’Abbaye de Stavelot\, du 29/01/2026 au 29/11/2026.\nDe l’Estampe au Manga : le Japon artistique\nDes grands maitres de l’estampe aux stars du manga contemporain\, l’exposition met en lumière une tradition graphique qui s’est transmise au Japon depuis l’époque médiévale. De nombreux objets anciens accompagnent les estampes des grands maitres Hokusai\, Hiroshige\, et Utamaro\, révélant un savoir-faire ancestral hors du commun. Le public pourra retrouver ses héros de mangas ou d’animés des années 80 à nos jours. Dragon Ball\, One Piece\, Naruto\, Astro Boy\, Les Chevaliers du Zodiaque\, Nicky Larson\, Nausicaä de la Vallée du Vent et bien d’autres seront présentés sous forme de dessins originaux\, dogās\, celluloïds et figurines 3D.
URL:https://lagendageek.com/tevent/de-lestampe-au-manga-le-japon-artistique/
LOCATION:Stavelot (BE) – Abbaye\, Cour de l"Abbaye\, 1 4970 Stavelot\, Stavelot\, Liège\, 4970\, Belgique
CATEGORIES:Exposition
ATTACH;FMTTYPE=image/jpeg:https://lagendageek.com/wp-content/uploads/2025/12/Expo-Japon-2026-VISUEL-e1766575575464.jpg
ORGANIZER;CN="ETC asbl":MAILTO:etc@abbayedestavelot.be
GEO:50.3934802;5.9315703
X-APPLE-STRUCTURED-LOCATION;VALUE=URI;X-ADDRESS=Stavelot (BE) – Abbaye Cour de l"Abbaye 1 4970 Stavelot Stavelot Liège 4970 Belgique;X-APPLE-RADIUS=500;X-TITLE=Cour de l"Abbaye\, 1 4970 Stavelot:geo:5.9315703,50.3934802
END:VEVENT
BEGIN:VEVENT
DTSTART;VALUE=DATE:20260319
DTEND;VALUE=DATE:20260824
DTSTAMP:20260424T134121
CREATED:20260324T083757Z
LAST-MODIFIED:20260324T083757Z
UID:10003123-1773878400-1787529599@lagendageek.com
SUMMARY:Passion Japon
DESCRIPTION:Passion Japon\nDu 19 mars au 23 août 2026\nL’exposition immersive qui vous emmène au Japon sans prendre l’avion. \nDécouvrez Passion Japon\, un voyage spectaculaire au cœur de la culture japonaise. \nParcourez un quartier traditionnel de Kyoto\, les rues animées de Tokyo\, avant de vous ressourcer dans un jardin zen. Samouraïs\, cérémonie du thé\, architecture\, gastronomie\, mode\, mangas\, cosplay… \nExplorez les grands incontournables du Japon à travers des décors grandeur nature\, des objets authentiques et des ambiances sonores et visuelles qui recréent toute l’atmosphère du pays. \nLe parcours s’achève par une expérience immersive impressionnante : les estampes d’Hokusai\, Hiroshige et autres maîtres s’animent tout autour de vous grâce à des projections monumentales et des animations numériques.\nUne plongée captivante dans l’univers de l’ukiyo-e\, revisitée avec les technologies d’aujourd’hui. \nAccessible\, dépaysant et idéal pour toute la famille\, Passion Japon offre un avant-goût unique d’un Japon fascinant\, entre traditions et modernité\, à vivre à Paris.
URL:https://lagendageek.com/tevent/passion-japon/
LOCATION:Paris (75) – Espace Chapiteaux\, Quai de la Charente\, Paris\, Ile-de-France\, 75019\, France
CATEGORIES:Exposition
ATTACH;FMTTYPE=image/jpeg:https://lagendageek.com/wp-content/uploads/2026/03/passion___japon___expo.jpg
GEO:48.895848;2.3844599
X-APPLE-STRUCTURED-LOCATION;VALUE=URI;X-ADDRESS=Paris (75) – Espace Chapiteaux Quai de la Charente Paris Ile-de-France 75019 France;X-APPLE-RADIUS=500;X-TITLE=Quai de la Charente:geo:2.3844599,48.895848
END:VEVENT
BEGIN:VEVENT
DTSTART;VALUE=DATE:20260424
DTEND;VALUE=DATE:20260426
DTSTAMP:20260424T134121
CREATED:20251217T163801Z
LAST-MODIFIED:20251217T163801Z
UID:10002221-1776988800-1777161599@lagendageek.com
SUMMARY:Manga Aix'PO 2026
DESCRIPTION:MANGA AIX’PO\, le salon de la culture japonaise à Aix-en-Provence\n________________________________________\nLa MANGA AIX’PO revient en force pour sa quatrième édition avec davantage d’animations\, d’exposants et de surprises pour satisfaire les passionnés de manga et de culture japonaise.\nUne expérience inoubliable en perspective !\nLa MANGA AIX’PO\, rendez-vous incontournable du Pays d’Aix pour explorer la culture japonaise\, accueillera les passionnés et les curieux les 24 avril de 14h à 21h et le 25 avril 2026 de 10h à 19h. À La Manufacture\, 10 rue des allumettes\, 13100 Aix-en-Provence\, petits et grands se réuniront pour une immersion au cœur du Japon\, entre univers des mangas\, cosplays\, arts martiaux\, traditions japonaises et jeux. Embarquez pour une journée ou deux au pays du soleil levant avec la MANGA AIX’PO ! \n800 m² d’exposants\n________________________________________\nLa MANGA AIX’PO promet une belle expérience avec 800 mètres carrés pour accueillir autour de La Librairie Mangas\, auteurs en dédicace \, illustrateurs exposants\, un espace consacré à la culture nippone et les associations bénéficiaires de ce salon à vertu caritative. \n300 m² dédiés aux animations\n________________________________________\nLa MANGA AIX’PO prévoit une zone de 300 mètres carrés dédiée aux Animations\, Arts Martiaux\, Jeux Japonais …et plus encore ! \nRestauration\n________________________________________\nUn espace de restauration vous accueillera avec plusieurs stands alimentaires et food-trucks\, prêts à vous offrir une pause bien méritée où vous pourrez vous fondre dans l’univers japonais. \nExpériences Immersives en Réalité Virtuelle et Augmentée\n________________________________________\nLa Manga Aix’PO vous proposera un stand dédié à la réalité virtuelle et augmentée pour vous plonger dans des expériences immersives. Venez tester des technologies de pointe et explorer des mondes virtuels fascinants. Un rendez-vous incontournable pour les passionnés de nouvelles technologies !
URL:https://lagendageek.com/tevent/manga-aixpo-2026/
LOCATION:Aix-en-Provence (13) – La Manufacture\, Rue des Allumettes 10\, Aix-en-Provence\, Bouches-du-Rhône\, 13100\, France
CATEGORIES:Salon / convention / brocante
ATTACH;FMTTYPE=image/jpeg:https://lagendageek.com/wp-content/uploads/2025/12/manga_aixpo___2026.jpg
GEO:43.5249404;5.4394178
X-APPLE-STRUCTURED-LOCATION;VALUE=URI;X-ADDRESS=Aix-en-Provence (13) – La Manufacture Rue des Allumettes 10 Aix-en-Provence Bouches-du-Rhône 13100 France;X-APPLE-RADIUS=500;X-TITLE=Rue des Allumettes 10:geo:5.4394178,43.5249404
END:VEVENT
BEGIN:VEVENT
DTSTART;VALUE=DATE:20260424
DTEND;VALUE=DATE:20260426
DTSTAMP:20260424T134121
CREATED:20260314T150744Z
LAST-MODIFIED:20260314T150744Z
UID:10003103-1776988800-1777161599@lagendageek.com
SUMMARY:SaYONNE’ara 2026
DESCRIPTION:Au programme :\nRencontres avec des auteurs\, concerts\, ateliers d’initiation et de découverte autour de la Culture Japonaise\, du jeu vidéo\, des arts martiaux\, des stands de cuisine japonaise\, 2 grands concours Cosplay\, et tellement d’autres surprises…\n… et devinez quoi? C’est toujours gratuit et ouvert à toutes et à tous !
URL:https://lagendageek.com/tevent/sayonneara-2026/
LOCATION:Sens (89) – Place des Héros\, 14 Place des Héros\, Sens\, 89100\, France
CATEGORIES:Salon / convention / brocante
ATTACH;FMTTYPE=image/jpeg:https://lagendageek.com/wp-content/uploads/2026/03/sayonnera__2026-e1773500837973.jpg
GEO:48.1981097;3.2907358
X-APPLE-STRUCTURED-LOCATION;VALUE=URI;X-ADDRESS=Sens (89) – Place des Héros 14 Place des Héros Sens 89100 France;X-APPLE-RADIUS=500;X-TITLE=14 Place des Héros:geo:3.2907358,48.1981097
END:VEVENT
BEGIN:VEVENT
DTSTART;TZID=Europe/Paris:20260424T093000
DTEND;TZID=Europe/Paris:20260426T173000
DTSTAMP:20260424T134121
CREATED:20260422T074151Z
LAST-MODIFIED:20260422T074151Z
UID:10003193-1777023000-1777224600@lagendageek.com
SUMMARY:Journées régionales des espaces fortifiés
DESCRIPTION:En continu tout le week-end : \nJeu de piste « Le message secret » : Mettez-vous dans la peau d’un détective et décodez le mystérieux message de l’architecte pour trouver la cachette la plus sécurisée du fort. \nEscape Game « Les Villes Fortifiées » : Top chrono ! Vous avez 30 minutes pour résoudre des mini-jeux en équipe et retrouver la clé universelle perdue des Hauts-de-France. \nLes rendez-vous à heure fixe (inclus dans le billet d’entrée) : \nDécouverte d’un lieu inédit : Vendredi\, samedi et dimanche à 11h\, 15h et 16h. Profitez d’une visite exceptionnelle du télégraphe optique\, un espace passionnant qui est d’habitude fermé au public. \nAtelier Croquis (Dimanche uniquement) : De 14h30 à 16h30\, apprenez à dessiner les monuments avec les conseils de Renaud Collard\, un illustrateur professionnel de bande dessinée.
URL:https://lagendageek.com/tevent/journees-regionales-des-espaces-fortifies/
LOCATION:3 Rue du Capitaine Pestel\, 02880 Chivres-Val\, 3 Rue du Capitaine Pestel\, Chivres-Val\, 02880\, France
CATEGORIES:Soirée / concert / spectacle
ATTACH;FMTTYPE=image/png:https://lagendageek.com/wp-content/uploads/2026/04/1-e1776843696878.png
GEO:49.3949872;3.4366934
X-APPLE-STRUCTURED-LOCATION;VALUE=URI;X-ADDRESS=3 Rue du Capitaine Pestel 02880 Chivres-Val 3 Rue du Capitaine Pestel Chivres-Val 02880 France;X-APPLE-RADIUS=500;X-TITLE=3 Rue du Capitaine Pestel:geo:3.4366934,49.3949872
END:VEVENT
BEGIN:VEVENT
DTSTART;TZID=Europe/Paris:20260424T183000
DTEND;TZID=Europe/Paris:20260424T213000
DTSTAMP:20260424T134121
CREATED:20260415T153900Z
LAST-MODIFIED:20260415T153900Z
UID:10003176-1777055400-1777066200@lagendageek.com
SUMMARY:Nerd Nite Strasbourg
DESCRIPTION:Plongez dans l’étrangeté de l’informatique quantique et les théories du complot les plus folles lors d’une soirée de curiosité ! Venez rencontrer d’autres nerds ! \nNerd nite est un événement mensuel gratuit qui invite les participants à donner des présentations courtes\, ludiques et éducatives sur toutes sortes de sujets\, pendant que le public déguste un verre. Nos conférenciers passionnés partageront leur expertise et leurs idées sur une variété de thèmes. Chaque présentation durera environ 30 minutes\, suivies d’une séance de questions-réponses. Une pause entre les présentations permettra aux participants de se resservir et de discuter des sujets présentés… ou de tout autre chose 🙂 \nAttention : soirée majoritairement en anglais ^^ \nOuverture des portes : 18h00 \nPremière conférence : 19h00 \nRejoignez-nous pour un quiz à 18h30 ! Le gagnant remporte une boisson gratuite ! 😉 \nComment construire un ordinateur quantique ; autrement dit : comment les physiciens sont des magiciens \nInformatique quantique : Vous avez peut-être entendu parler de cette technologie émergente\, ou peut-être que le mot « qubit » vous laisse perplexe. L’informatique quantique est incroyable\, mais aussi extrêmement complexe. C’est un problème\, car il est impossible d’apprécier ce que l’on ne comprend pas. Je souhaite vous montrer comment construire votre propre ordinateur quantique\, tout en vous convainquant d’une autre chose : les physiciens sont de véritables magiciens ! Certes\, nous ne volons peut-être pas sur des balais volants ni ne lançons de boules de feu\, bien que les lasers s’en approchent. Je veux vous démontrer que les avancées de la physique et de la technologie sont tout aussi stupéfiantes que des sorts (bien que parfaitement compris)\, et qu’aucune connaissance mathématique n’est requise. \nÀ propos de la conférencière : Emma Frantz a récemment rejoint Strasbourg en tant que chercheuse postdoctorale au CESQ\, où elle travaille sur la plateforme d’informatique quantique aQCess. Elle a obtenu son doctorat en spintronique à l’Université de Californie à Irvine fin 2025 (après avoir abandonné ses études de magie). \nLa Terre n’est pas plate\, mais savez-vous comment vous le savez ? \nNous savons tous que la Terre n’est pas plate… n’est-ce pas ? Il y a plein de preuves partout… pas vrai ? Mais toutes ces preuves proviennent-elles d’une véritable perspective sceptique\, ou ne faisons-nous que répéter ce qu’on nous a appris à l’école sans vraiment savoir comment justifier cette croyance en la « Terre sphérique » ? Analysons les arguments solides en faveur d’une vision scientifique du monde\, dans le contexte des théories du complot\, afin de mieux nous préparer\, ainsi que notre entourage\, aux raisonnements erronés et idées fallacieuses. \nÀ propos du conférencier : Clément est ingénieur en mécanique. Il a passé un temps considérable à débattre et à observer les théoriciens du complot en ligne et souhaite partager les fruits de son travail avec un public plus large. \nDes boissons et du grignotage seront disponibles au bar de l’association.
URL:https://lagendageek.com/tevent/nerd-nite-strasbourg-2/
LOCATION:Strasbourg (67) – Le shadok\, 25 presqu'ile André Malraux\, Rue du Bass. d'Austerlitz\, Strasbourg\, 67100\, France
CATEGORIES:Soirée / concert / spectacle
ATTACH;FMTTYPE=image/jpeg:https://lagendageek.com/wp-content/uploads/2026/04/IMG-20260409-WA0001-e1776267516631.jpg
ORGANIZER;CN="Labs&amp%3BLegends":MAILTO:labsandlegends@gmail.com
GEO:48.5739696;7.764063
X-APPLE-STRUCTURED-LOCATION;VALUE=URI;X-ADDRESS=Strasbourg (67) – Le shadok 25 presqu'ile André Malraux Rue du Bass. d'Austerlitz Strasbourg 67100 France;X-APPLE-RADIUS=500;X-TITLE=25 presqu'ile André Malraux\, Rue du Bass. d'Austerlitz:geo:7.764063,48.5739696
END:VEVENT
END:VCALENDAR